View In:
ArcGIS JavaScript
ArcGIS Online Map Viewer
ArcGIS Earth
ArcMap
ArcGIS Pro
View Footprint In:
ArcGIS Online Map Viewer
Service Description: Porastová mapa. Mierky zobrazenia jednotlivých tried objektov sú nastavené pre použitie vo webových mapách a aplikáciách.
Map Name: Porastova mapa_web
Legend
All Layers and Tables
Layers:
Description: Porastová mapa. Mierky zobrazenia jednotlivých tried objektov sú nastavené pre použitie vo webových mapách a aplikáciách.
Copyright Text: © NLC Zvolen
Spatial Reference:
102100
(3857)
Single Fused Map Cache: true
Tile Info:
- Height: 256
- Width: 256
- DPI: 96
-
Levels of Detail: 24
-
Level ID: 1
[ Start Tile, End Tile ]
- Resolution: 78271.5169639999
- Scale: 2.95828763795777E8
-
Level ID: 2
[ Start Tile, End Tile ]
- Resolution: 39135.7584820001
- Scale: 1.47914381897889E8
-
Level ID: 3
[ Start Tile, End Tile ]
- Resolution: 19567.8792409999
- Scale: 7.3957190948944E7
-
Level ID: 4
[ Start Tile, End Tile ]
- Resolution: 9783.93962049996
- Scale: 3.6978595474472E7
-
Level ID: 5
[ Start Tile, End Tile ]
- Resolution: 4891.96981024998
- Scale: 1.8489297737236E7
- Format: PNG
- Compression Quality: 0.0
- Origin: X: -2.0037508342787E7
Y: 2.0037508342787E7
- Spatial Reference: 102100
(3857)
Storage Info:
- Storage Format: esriMapCacheStorageModeCompactV2
- Packet Size: 128
Initial Extent:
XMin: 1607417.0352533192
YMin: 5685078.49561385
XMax: 2824294.525553002
YMax: 6694047.2689779075
Spatial Reference: 102100
Full Extent:
XMin: 1873861.6000000015
YMin: 6062248.829999998
XMax: 2512002.8500000015
YMax: 6379659.3999999985
Spatial Reference: 102100
Units: esriMeters
Supported Image Format Types: PNG32,PNG24,PNG,JPG,DIB,TIFF,EMF,PS,PDF,GIF,SVG,SVGZ,BMP
Document Info:
Title: Porastová mapa
Author:
Comments: <DIV STYLE="text-align:Left;"><DIV><DIV><P><SPAN>Porastov</SPAN><SPAN>á</SPAN><SPAN> mapa</SPAN><SPAN>. Mierky zobrazenia jednotlivých tried objektov sú nastavené pre použitie vo webových mapách a aplikáciách.</SPAN></P></DIV></DIV></DIV>
Subject: Vektorová porastová mapa slúžiaca na generovanie dlaždíc podkladovej mapy
Category:
Keywords: basemap,porastová mapa,tšmd
AntialiasingMode: Fast
TextAntialiasingMode: Force
Supports Dynamic Layers: false
Resampling: false
MaxRecordCount: 10000
MaxImageHeight: 4096
MaxImageWidth: 4096
Supported Query Formats: JSON, geoJSON, PBF
Supports Query Data Elements: true
Min Scale: 9244648.868618
Max Scale: 2256.994353
Min LOD: 6
Max LOD: 18
Supports Datum Transformation: true
Active Range Name:
Current Range Extent: [-998,1]
Child Resources:
Info
Supported Operations:
Export Map
Identify
QueryLegends
QueryDomains
Find
EstimateExportTilesSize
ExportTiles
Return Updates