View In:
ArcGIS JavaScript
ArcGIS Online Map Viewer
ArcGIS Earth
ArcMap
ArcGIS Pro
View Footprint In:
ArcGIS Online Map Viewer
Service Description: Kultúrne diely predstavujú ucelené časti poľnohospodárskej krajiny s viac-menej stabilnými prirodzenými alebo umelými hranicami a jednou kultúrou, pričom zároveň obsahujú informáciu o jedinečnom kóde dielu, lokalite a výmere. Na podklade kultúrnych dielov žiadatelia o priame podpory zakresľujú svoje hranice užívania, v rámci ktorých v danom roku hospodária a žiadajú o priame podpory.
Map Name: Layers
Legend
All Layers and Tables
Dynamic Legend
Dynamic All Layers
Layers:
Description: Kultúrne diely predstavujú ucelené časti poľnohospodárskej krajiny s viac-menej stabilnými prirodzenými alebo umelými hranicami a jednou kultúrou, pričom zároveň obsahujú informáciu o jedinečnom kóde dielu, lokalite a výmere. Na podklade kultúrnych dielov žiadatelia o priame podpory zakresľujú svoje hranice užívania, v rámci ktorých v danom roku hospodária a žiadajú o priame podpory.
Copyright Text: © MPRV SR
Spatial Reference:
102100
(3857)
Single Fused Map Cache: true
Tile Info:
- Height: 256
- Width: 256
- DPI: 96
-
Levels of Detail: 24
-
Level ID: 0
[ Start Tile, End Tile ]
- Resolution: 156543.03392800014
- Scale: 5.91657527591555E8
-
Level ID: 1
[ Start Tile, End Tile ]
- Resolution: 78271.51696399994
- Scale: 2.95828763795777E8
-
Level ID: 2
[ Start Tile, End Tile ]
- Resolution: 39135.75848200009
- Scale: 1.47914381897889E8
-
Level ID: 3
[ Start Tile, End Tile ]
- Resolution: 19567.87924099992
- Scale: 7.3957190948944E7
-
Level ID: 4
[ Start Tile, End Tile ]
- Resolution: 9783.93962049996
- Scale: 3.6978595474472E7
-
Level ID: 5
[ Start Tile, End Tile ]
- Resolution: 4891.96981024998
- Scale: 1.8489297737236E7
- Format: PNG8
- Compression Quality: 0.0
- Origin: X: -2.0037508342787E7
Y: 2.0037508342787E7
- Spatial Reference: 102100
(3857)
Storage Info:
- Storage Format: esriMapCacheStorageModeCompactV2
- Packet Size: 128
Initial Extent:
XMin: 1917241.223727692
YMin: 6123722.387682717
XMax: 1925282.1314994781
YMax: 6130364.5711130835
Spatial Reference: 102100
(3857)
Full Extent:
XMin: 1873861.604892869
YMin: 6062248.833085228
XMax: 2512002.845650973
YMax: 6379659.404402582
Spatial Reference: 102100
(3857)
Units: esriMeters
Supported Image Format Types: PNG32,PNG24,PNG,JPG,DIB,TIFF,EMF,PS,PDF,GIF,SVG,SVGZ,BMP
Document Info:
Title: Kultúrne diely
Author:
Comments: Kultúrne diely predstavujú ucelené časti poľnohospodárskej krajiny s viac-menej stabilnými prirodzenými alebo umelými hranicami a jednou kultúrou, pričom zároveň obsahujú informáciu o jedinečnom kóde dielu, lokalite a výmere. Na podklade kultúrnych dielov žiadatelia o priame podpory zakresľujú svoje hranice užívania, v rámci ktorých v danom roku hospodária a žiadajú o priame podpory.
Subject: Hranice kultúrnych dielov pre ZBGIS
Category:
Keywords: kultúrne diely,lpis,zbgis
AntialiasingMode: None
TextAntialiasingMode: Force
Supports Dynamic Layers: true
MaxRecordCount: 1000
MaxImageHeight: 4096
MaxImageWidth: 4096
Supported Query Formats: JSON, geoJSON, PBF
Supports Query Data Elements: true
Min Scale: 36111.909643
Max Scale: 1128.497176
Min LOD: 14
Max LOD: 19
Supports Datum Transformation: true
Child Resources:
Info
Dynamic Layer
Supported Operations:
Export Map
Identify
QueryLegends
QueryDomains
Find
Return Updates